BEGIN:VCALENDAR
VERSION:2.0
PRODID:SchoolNow
CALSCALE:GREGORIAN
BEGIN:VEVENT
UID:93edc2fc-c557-11f0-b790-0a58a9feac02
DTSTAMP:20260324T095142Z
SUMMARY:CDD Board Meeting - Mar. 2026
LOCATION:13013 Hammock Club\, Riverview\, Fl 33579
URL;VALUE=URI:https://www.triplecreekcdd.com/calendar/8803658/cdd-board-mee
 ting-mar-2026
DTSTART:20260324T220000Z
DTEND:20260324T230000Z
ATTACH;FILENAME=2026-03-24 - Triple Creek CDD - Revised Final Agenda.pdf;FM
 TTYPE=application/pdf:https://campussuite-storage.s3.amazonaws.com/prod/15
 59100/608b6f46-8518-11ec-8a4e-0a07f153b8f7/3082759/07f383dc-2767-11f1-aa21
 -0a58a9feac02/file/2026-03-24 - Triple Creek CDD - Revised Final Agenda.pd
 f
END:VEVENT
END:VCALENDAR
