BEGIN:VCALENDAR
VERSION:2.0
PRODID:SchoolNow
CALSCALE:GREGORIAN
BEGIN:VEVENT
UID:a111f700-c557-11f0-8300-0a58a9feac02
DTSTAMP:20260331T195151Z
SUMMARY:CDD Board Meeting - Apr. 7\, 2026
LOCATION:13013 Hammock Club\, Riverview\, Fl 33579
URL;VALUE=URI:https://www.triplecreekcdd.com/calendar/8803659/cdd-board-mee
 ting-apr-7-2026
DTSTART:20260407T220000Z
DTEND:20260407T230000Z
ATTACH;FILENAME=2026-04-07 - Triple Creek CDD - Final Agenda BW.pdf;FMTTYPE
 =application/pdf:https://campussuite-storage.s3.amazonaws.com/prod/1559100
 /608b6f46-8518-11ec-8a4e-0a07f153b8f7/3085642/fa192ac6-2d3a-11f1-bc85-0ea9
 5dd34c39/file/2026-04-07 - Triple Creek CDD - Final Agenda BW.pdf
END:VEVENT
END:VCALENDAR
